BEGIN:VCALENDAR
METHOD:PUBLISH
PRODID:-//Weblication CMS
VERSION:2.0
BEGIN:VEVENT
SUMMARY:Moto Experience - das ultimative Motorrad Event
DTSTART:20250705T100000
DTEND:20250706T180000
DESCRIPTION:Selbstverständlich sind wir auch dieses Jahr wieder auf der Moto Experience in Ettenheim vertreten! 
LOCATION:Ettenheim
UID:https://www.motobike.de/motobike/veranstaltungen/termine/Moto-Experience-das-ultimative-Motorrad-Event.php
URL:https://www.motobike.de/motobike/veranstaltungen/termine/Moto-Experience-das-ultimative-Motorrad-Event.php
END:VEVENT
END:VCALENDAR