BEGIN:VCALENDAR
METHOD:PUBLISH
PRODID:-//Weblication CMS
VERSION:2.0
BEGIN:VEVENT
SUMMARY:Honda Roadshow 2025
DTSTART:20250422T100000
DTEND:20250422T160000
DESCRIPTION:Die Honda Roadshow findet am 26.04.2025 bei uns statt! 
LOCATION:Offenburg
UID:https://www.motobike.de/motobike/veranstaltungen/termine/Honda-Roadshow-2025.php
URL:https://www.motobike.de/motobike/veranstaltungen/termine/Honda-Roadshow-2025.php
END:VEVENT
END:VCALENDAR