BEGIN:VCALENDAR
METHOD:PUBLISH
PRODID:-//Weblication CMS
VERSION:2.0
BEGIN:VEVENT
SUMMARY:Ducati 4U in Dijon - Mit dem Chef auf die Rennstrecke
DTSTART;VALUE=DATE:20160426
DTEND;VALUE=DATE:20160427
DESCRIPTION:
LOCATION:
UID:https://www.motobike.de/motobike/veranstaltungen/termine/7697234977.php
URL:https://www.motobike.de/motobike/veranstaltungen/termine/7697234977.php
END:VEVENT
END:VCALENDAR