BEGIN:VCALENDAR
METHOD:PUBLISH
PRODID:-//Weblication CMS
VERSION:2.0
BEGIN:VEVENT
SUMMARY:Honda Valentins-Special
DTSTART:20160213T080000
DTEND:20160213T180000
DESCRIPTION:
LOCATION:
UID:https://www.motobike.de/motobike/veranstaltungen/termine/2196669228.php
URL:https://www.motobike.de/motobike/veranstaltungen/termine/2196669228.php
END:VEVENT
END:VCALENDAR